BEGIN:VCALENDAR
VERSION:2.0
PRODID:-//A Child Becomes Preschool - ECPv6.15.20//NONSGML v1.0//EN
CALSCALE:GREGORIAN
METHOD:PUBLISH
X-ORIGINAL-URL:https://achildbecomes.org
X-WR-CALDESC:Events for A Child Becomes Preschool
REFRESH-INTERVAL;VALUE=DURATION:PT1H
X-Robots-Tag:noindex
X-PUBLISHED-TTL:PT1H
BEGIN:VTIMEZONE
TZID:UTC
BEGIN:STANDARD
TZOFFSETFROM:+0000
TZOFFSETTO:+0000
TZNAME:UTC
DTSTART:20170101T000000
END:STANDARD
END:VTIMEZONE
BEGIN:VEVENT
DTSTART;VALUE=DATE:20181203
DTEND;VALUE=DATE:20181215
DTSTAMP:20260424T023640
CREATED:20181011T155837Z
LAST-MODIFIED:20181206T191924Z
UID:3174-1543795200-1544831999@achildbecomes.org
SUMMARY:Service Project - Toys for Tots Collection
DESCRIPTION:We will be collecting toys (new and un-wrapped) to benefit Toys for Tots. \nIdeally\, every child is bringing one toy for donation. These toys are then delivered to the Fire Station 29 just down the street by the students mid-December. We load up wagons and walk down\, each child is able to deposit one toy (it may not be their own) into the donation bin. We sing songs and talk with the firefighters and then return to the school for hot cocoa with marshmallows. \n 
URL:https://achildbecomes.org/calendar/service-project-toys-for-tots-collection/
CATEGORIES:School Event
END:VEVENT
END:VCALENDAR