BEGIN:VCALENDAR
VERSION:2.0
PRODID:-//A Child Becomes Preschool - ECPv6.15.20//NONSGML v1.0//EN
CALSCALE:GREGORIAN
METHOD:PUBLISH
X-ORIGINAL-URL:https://achildbecomes.org
X-WR-CALDESC:Events for A Child Becomes Preschool
REFRESH-INTERVAL;VALUE=DURATION:PT1H
X-Robots-Tag:noindex
X-PUBLISHED-TTL:PT1H
BEGIN:VTIMEZONE
TZID:UTC
BEGIN:STANDARD
TZOFFSETFROM:+0000
TZOFFSETTO:+0000
TZNAME:UTC
DTSTART:20170101T000000
END:STANDARD
END:VTIMEZONE
BEGIN:VEVENT
DTSTART;VALUE=DATE:20181101
DTEND;VALUE=DATE:20181117
DTSTAMP:20260425T225152
CREATED:20181010T154540Z
LAST-MODIFIED:20181010T154540Z
UID:3108-1541030400-1542412799@achildbecomes.org
SUMMARY:Service Project - Food Drive for WS Food Bank
DESCRIPTION:We will host a food drive for the month of November to support the Back Pack program at the West Seattle Food Bank.  The program supports children at risk of weekend hunger in our community. Each receives a “backpack” consisting of six balanced meals that are kid-friendly\, nutritious\, nonperishable\, and easy to prepare/eat.  Grocery bags will be sent home with your student along with a wish list. These can be returned to school and in turn\, sent to the WS Food Bank. \nThank you for your support!
URL:https://achildbecomes.org/calendar/service-project-food-drive-for-ws-food-bank/
CATEGORIES:School Event
END:VEVENT
BEGIN:VEVENT
DTSTART;TZID=UTC:20181105T183000
DTEND;TZID=UTC:20181105T200000
DTSTAMP:20260425T225152
CREATED:20180420T162801Z
LAST-MODIFIED:20180420T162801Z
UID:2736-1541442600-1541448000@achildbecomes.org
SUMMARY:Open House
DESCRIPTION:Join us! Visit our classrooms and talk with our teachers. Learn about what happens each day in the classroom. \nClick here to RSVP to join us \n  \n  \n 
URL:https://achildbecomes.org/calendar/open-house-8/
CATEGORIES:School Event
END:VEVENT
END:VCALENDAR